BEGIN:VCALENDAR
VERSION:2.0
PRODID:-//Port Broughton Area School - ECPv5.0.0//NONSGML v1.0//EN
CALSCALE:GREGORIAN
METHOD:PUBLISH
X-WR-CALNAME:Port Broughton Area School
X-ORIGINAL-URL:https://pbas.sa.edu.au
X-WR-CALDESC:Events for Port Broughton Area School
BEGIN:VTIMEZONE
TZID:Australia/Adelaide
BEGIN:STANDARD
TZOFFSETFROM:+1030
TZOFFSETTO:+0930
TZNAME:ACST
DTSTART:20200404T163000
END:STANDARD
BEGIN:DAYLIGHT
TZOFFSETFROM:+0930
TZOFFSETTO:+1030
TZNAME:ACDT
DTSTART:20201003T163000
END:DAYLIGHT
END:VTIMEZONE
BEGIN:VEVENT
DTSTART;TZID=Australia/Adelaide:20200101T000000
DTEND;TZID=Australia/Adelaide:20200127T000000
DTSTAMP:20200227T143459
CREATED:20200127T005454Z
LAST-MODIFIED:20200127T005454Z
UID:456-1577836800-1580083200@pbas.sa.edu.au
SUMMARY:School Holidays
DESCRIPTION:
URL:https://pbas.sa.edu.au/event/school-holidays-13/
END:VEVENT
END:VCALENDAR